BEGIN:VCALENDAR
VERSION:2.0
PRODID:-//Культурно-просветительский центр &quot;Царский&quot; - ECPv6.15.20//NONSGML v1.0//EN
CALSCALE:GREGORIAN
METHOD:PUBLISH
X-WR-CALNAME:Культурно-просветительский центр &quot;Царский&quot;
X-ORIGINAL-URL:https://center-tsarsky.ru
X-WR-CALDESC:Мероприятия для Культурно-просветительский центр &quot;Царский&quot;
REFRESH-INTERVAL;VALUE=DURATION:PT1H
X-Robots-Tag:noindex
X-PUBLISHED-TTL:PT1H
BEGIN:VTIMEZONE
TZID:Europe/Moscow
BEGIN:STANDARD
TZOFFSETFROM:+0300
TZOFFSETTO:+0300
TZNAME:MSK
DTSTART:20171231T190000
END:STANDARD
END:VTIMEZONE
BEGIN:VEVENT
DTSTART;TZID=Europe/Moscow:20190320T030000
DTEND;TZID=Europe/Moscow:20190417T120000
DTSTAMP:20260422T132218
CREATED:20190319T075637Z
LAST-MODIFIED:20190319T075637Z
UID:3084-1553050800-1555502400@center-tsarsky.ru
SUMMARY:Цикл встреч «Великопостные среды: Лествица к Пасхе» пройдет в Екатеринбурге
DESCRIPTION:http://center-tsarsky.ru/wp-content/uploads/2019/03/Протоиерей-Евгений-Попиченко-о-цикле-встреч-Великопостные-среды-Лествица-к-Пасхе.mp4\n  \nПо благословению митрополита Екатеринбургского и Верхотурского Кирилла в дни Великого поста в Духовно-просветительском центре Екатеринбургской епархии пройдет цикл бесед на духовно-просветительские темы. \nВстречи проведут священнослужители Екатеринбургской епархии: руководитель отдела социального служения Екатеринбургской епархии протоиерей Евгений Попиченко\, проректор по учебной работе Екатеринбургской духовной семинарии иерей Константин Корепанов и наместник мужского монастыря Царственных страстотерпцев игумен Леонтий (Козлов). \nВстречи пройдут в формате «вопрос — ответ» и будут посвящены темам\, которые вспоминает святая Церковь во время Великого поста. \nБеседы будут проходить по средам со второй по шестую седмицы Великого поста. Начало в 18:30. \n20 марта – протоиерей Евгений Попиченко «О милосердии»; \n27 марта – иерей Константин Корепанов «Крест в жизни христианина»; \n3 апреля  – игумен Леонтий (Козлов) «О покаянии»; \n9 апреля – протоиерей Евгений Попиченко «О молитве»; \n17 апреля – иерей Константин Корепанов «О благодати Божией». \nДуховно-просветительский центр Екатеринбургской епархии: Екатеринбург\, ул. Репина 6\, актовый зал (3 этаж). \n  \n \nИсточник: http://www.ekaterinburg-eparhia.ru/news/2019/03/17/20482/
URL:https://center-tsarsky.ru/events/%d1%86%d0%b8%d0%ba%d0%bb-%d0%b2%d1%81%d1%82%d1%80%d0%b5%d1%87-%d0%b2%d0%b5%d0%bb%d0%b8%d0%ba%d0%be%d0%bf%d0%be%d1%81%d1%82%d0%bd%d1%8b%d0%b5-%d1%81%d1%80%d0%b5%d0%b4%d1%8b-%d0%bb%d0%b5%d1%81/
LOCATION:Здание Екатеринбургской епархии\, ул. Репина\, 6\, Екатеринбург\, Российская Федерация
END:VEVENT
BEGIN:VEVENT
DTSTART;VALUE=DATE:20190316
DTEND;VALUE=DATE:20190317
DTSTAMP:20260422T132218
CREATED:20190312T031637Z
LAST-MODIFIED:20190312T042407Z
UID:3033-1552762800-1552849199@center-tsarsky.ru
SUMMARY:Общегородской молебен Торжества Православия пройдет в Екатеринбурге на площадке перед Театром драмы
DESCRIPTION:В первое воскресенье Великого поста\, когда Церковь отмечает День Торжества Православия\, в Екатеринбурге\, на площадке перед Театром драмы будет совершен чин Торжества Православия и молебен об укреплении мира и согласия. \nПравославные будут молиться «о мире всего мира\, благостоянии святых Божиих церквей и соединении всех»\, в том числе\, об устранении раскола в мировом православии\, прекращении противостояния в Украине и Сирии\, о единстве и согласии нашего общества. \nВо время молебна митрополит Екатеринбургский и Верхотурский Кирилл вместе с главами епархий Екатеринбургской митрополии отслужит чин Торжества Православия\, традиционно совершаемый в первое воскресенье Великого поста. \nКак отметил в своем обращении к пастве и духовенству в день Прощеного воскресенья Его Высокопреосвященство митрополит Кирилл\, «Торжество Православия – это сила Духа\, которая внушается человеческому сердцу\, чтобы он всегда верил в Бога\, доверял Ему и всегда жил по заповедям Христовым». \nГлава митрополии призвал в первое воскресенье Великого поста\, когда Церковь празднует Торжество Православия\, собраться на месте будущего храма святой Екатерины и совершить там молебен Торжества Православия «для укрепления нашей веры\, для призвания помощи Святого Духа в этом великом деле для того\, чтобы образ святой Екатерины\, с именем которой наш город жил много и много лет\, чтобы эта сила Духа всегда соприсутствовала каждому жителю нашего города и укрепляла нас в добром делании для спасения своей души\, для жизни праведной и благодатной». \n— Мы соберемся для того\, чтобы совместно соборной молитвой призвать Бога\, чтобы Он объединил и защитил нас\, утвердил веру и показал Свет Истины тем людям\, которые сейчас его не видят\, ибо Сам Христос есть и Путь\, и Истина\, и Жизнь\, — говорится в обращении. — Пусть храм в честь Небесной покровительницы Екатеринбурга\, святой великомученицы Екатерины станет символом духовного воскресения нашего города\, объединит наше общество в любви к справедливости\, к своему Отечеству\, к своему городу и его истории. Да укрепит нас Господь\, даруя силу Духа\, присущую святой великомученице Екатерине\, святым Царственным страстотерпцам и всем святым\, от века Богу угодившим.  \nМолебен состоится на площади перед Театром драмы\, на месте будущего собора Небесной покровительницы Екатеринбурга. С иконами и хоругвями с образами святых Божиих угодников\, верующие соберутся перед святынями Екатеринбургской епархии — ковчегами с частицами мощей святой Екатерины\, Симеона Верхотурского\, Александра Невского\, Матроны Московской. \nОтметим\, в Екатеринбургской епархии существует традиция молитвенных шествий в дни значимых православных празднеств. Так\, в дни Пасхи Христовой\, Казанской иконы Божией Матери\, святой Екатерины\, в Царские дни православные шествуют по улицам уральской столицы\, вознося молитвы ко Господу\, Пресвятой Богородице и святым небесным покровителям. \nВ этом году к давней традиции добавится общегородской молебен Торжества Православия. Ранее общегородской чин Торжества Православия проводился в храмах епархии\, теперь он будет отслужен «под куполом Небесного Храма»\, поскольку вместить такое количество молящихся сегодня не способен ни один храм Екатеринбурга. \nОбщегородской молебен Торжества Православия состоится в воскресенье\, 17 марта\, в 15:00. \nСбор участников соборной молитвы в 14:30 на площадке перед Театром драмы. \nhttp://center-tsarsky.ru/wp-content/uploads/2019/03/Обращение-митрополита-Кирилла-в-канун-Великого-поста.-2019.mp4\n  \nИсточник: http://www.ekaterinburg-eparhia.ru/news/2019/03/11/20444/?fbclid=IwAR0u5QLFl9bnNdjLqRf2XGBBZ9HJ6dAH1AXem4ILI1TzFy0uBrn0UtYWs_8
URL:https://center-tsarsky.ru/events/%d0%be%d0%b1%d1%89%d0%b5%d0%b3%d0%be%d1%80%d0%be%d0%b4%d1%81%d0%ba%d0%be%d0%b9-%d0%bc%d0%be%d0%bb%d0%b5%d0%b1%d0%b5%d0%bd-%d1%82%d0%be%d1%80%d0%b6%d0%b5%d1%81%d1%82%d0%b2%d0%b0-%d0%bf%d1%80%d0%b0/
LOCATION:56.842807\, 60.595037\, Площадь перед Театром драмы\, Екатеринбург\, Российская Федерация
ATTACH;FMTTYPE=image/jpeg:https://center-tsarsky.ru/wp-content/uploads/2019/03/Собор.jpg
END:VEVENT
END:VCALENDAR